BEGIN:VCALENDAR
PRODID:-//eluceo/ical//2.0/EN
VERSION:2.0
CALSCALE:GREGORIAN
BEGIN:VEVENT
UID:b4979c48553da4fc26191479ecf189c6
DTSTAMP:20260422T034715Z
SUMMARY:Einführung und Austausch zur Ausstellung «Cao Fei»
DESCRIPTION:
DTSTART:20260627T150000
DTEND:20260627T160000
LOCATION:GEGENWART
END:VEVENT
BEGIN:VTIMEZONE
TZID:Europe/Zurich
BEGIN:DAYLIGHT
DTSTART:20260627T150000
TZNAME:CEST
TZOFFSETTO:+0200
TZOFFSETFROM:+0200
END:DAYLIGHT
END:VTIMEZONE
END:VCALENDAR
