BEGIN:VCALENDAR
PRODID:-//eluceo/ical//2.0/EN
VERSION:2.0
CALSCALE:GREGORIAN
BEGIN:VEVENT
UID:63fa5983b4d84f801674bb7e33b31679
DTSTAMP:20260422T021139Z
SUMMARY:Einführung und Austausch zur Ausstellung «Cao Fei»
DESCRIPTION:
DTSTART:20260613T150000
DTEND:20260613T160000
LOCATION:GEGENWART
END:VEVENT
BEGIN:VTIMEZONE
TZID:Europe/Zurich
BEGIN:DAYLIGHT
DTSTART:20260613T150000
TZNAME:CEST
TZOFFSETTO:+0200
TZOFFSETFROM:+0200
END:DAYLIGHT
END:VTIMEZONE
END:VCALENDAR
