BEGIN:VCALENDAR
PRODID:-//eluceo/ical//2.0/EN
VERSION:2.0
CALSCALE:GREGORIAN
BEGIN:VEVENT
UID:b6c197c87114574bb9c20cf00658f488
DTSTAMP:20260422T021114Z
SUMMARY:Introduction and exchange on the exhibition “Cao Fei”
DESCRIPTION:
DTSTART:20260607T150000
DTEND:20260607T160000
LOCATION:GEGENWART
END:VEVENT
BEGIN:VTIMEZONE
TZID:Europe/Zurich
BEGIN:DAYLIGHT
DTSTART:20260607T150000
TZNAME:CEST
TZOFFSETTO:+0200
TZOFFSETFROM:+0200
END:DAYLIGHT
END:VTIMEZONE
END:VCALENDAR
