BEGIN:VCALENDAR
PRODID:-//eluceo/ical//2.0/EN
VERSION:2.0
CALSCALE:GREGORIAN
BEGIN:VEVENT
UID:9342dd5e1764d7d6132a83e92a4c742b
DTSTAMP:20260422T020956Z
SUMMARY:30 Minuten: Konrad Witz in Basel
DESCRIPTION:
DTSTART:20260526T123000
DTEND:20260526T130000
LOCATION:HAUPTBAU
END:VEVENT
BEGIN:VTIMEZONE
TZID:Europe/Zurich
BEGIN:DAYLIGHT
DTSTART:20260526T123000
TZNAME:CEST
TZOFFSETTO:+0200
TZOFFSETFROM:+0200
END:DAYLIGHT
END:VTIMEZONE
END:VCALENDAR
