BEGIN:VCALENDAR
PRODID:-//eluceo/ical//2.0/EN
VERSION:2.0
CALSCALE:GREGORIAN
BEGIN:VEVENT
UID:66eac4a1d76ad107a358083a08a68b78
DTSTAMP:20260421T162955Z
SUMMARY:«Ein Leben lang malen»: Panel zur Ausstellung «Helen Frankenthal
 er»
DESCRIPTION:
DTSTART:20260503T160000
DTEND:20260503T173000
LOCATION:NEUBAU
END:VEVENT
BEGIN:VTIMEZONE
TZID:Europe/Zurich
BEGIN:DAYLIGHT
DTSTART:20260503T160000
TZNAME:CEST
TZOFFSETTO:+0200
TZOFFSETFROM:+0200
END:DAYLIGHT
END:VTIMEZONE
END:VCALENDAR
