BEGIN:VCALENDAR
PRODID:-//eluceo/ical//2.0/EN
VERSION:2.0
CALSCALE:GREGORIAN
BEGIN:VEVENT
UID:8d15783f40428a308e65ca8ac4864561
DTSTAMP:20260421T163314Z
SUMMARY:Tandemführung zur Ausstellung «Helen Frankenthaler»
DESCRIPTION:
DTSTART:20260503T140000
DTEND:20260503T144500
LOCATION:NEUBAU
END:VEVENT
BEGIN:VTIMEZONE
TZID:Europe/Zurich
BEGIN:DAYLIGHT
DTSTART:20260503T140000
TZNAME:CEST
TZOFFSETTO:+0200
TZOFFSETFROM:+0200
END:DAYLIGHT
END:VTIMEZONE
END:VCALENDAR
