BEGIN:VCALENDAR
PRODID:-//eluceo/ical//2.0/EN
VERSION:2.0
CALSCALE:GREGORIAN
BEGIN:VEVENT
UID:8ac51596f47cf41460e36edf7316887d
DTSTAMP:20260421T163152Z
SUMMARY:Kuratorische Einführung in die Ausstellung «Helen Frankenthaler»
DESCRIPTION:
DTSTART:20260503T130000
DTEND:20260503T134500
LOCATION:NEUBAU
END:VEVENT
BEGIN:VTIMEZONE
TZID:Europe/Zurich
BEGIN:DAYLIGHT
DTSTART:20260503T130000
TZNAME:CEST
TZOFFSETTO:+0200
TZOFFSETFROM:+0200
END:DAYLIGHT
END:VTIMEZONE
END:VCALENDAR
