BEGIN:VCALENDAR
PRODID:-//eluceo/ical//2.0/EN
VERSION:2.0
CALSCALE:GREGORIAN
BEGIN:VEVENT
UID:d886f2ce0523aa6df9836c445c688ce1
DTSTAMP:20260421T163314Z
SUMMARY:Atelier ouvert: Peinture sans limites / Peinture XXL
DESCRIPTION:
DTSTART:20260503T100000
DTEND:20260503T160000
LOCATION:HAUPTBAU
END:VEVENT
BEGIN:VTIMEZONE
TZID:Europe/Zurich
BEGIN:DAYLIGHT
DTSTART:20260503T100000
TZNAME:CEST
TZOFFSETTO:+0200
TZOFFSETFROM:+0200
END:DAYLIGHT
END:VTIMEZONE
END:VCALENDAR
