BEGIN:VCALENDAR
PRODID:-//eluceo/ical//2.0/EN
VERSION:2.0
CALSCALE:GREGORIAN
BEGIN:VEVENT
UID:ba318bc31af45be09eb0235e79d3cb35
DTSTAMP:20260422T022051Z
SUMMARY:A conversation about the art and life of Helen Frankenthaler
DESCRIPTION:
DTSTART:20260418T110000
DTEND:20260418T123000
LOCATION:NEUBAU
END:VEVENT
BEGIN:VTIMEZONE
TZID:Europe/Zurich
BEGIN:DAYLIGHT
DTSTART:20260418T110000
TZNAME:CEST
TZOFFSETTO:+0200
TZOFFSETFROM:+0200
END:DAYLIGHT
END:VTIMEZONE
END:VCALENDAR
