BEGIN:VCALENDAR
PRODID:-//eluceo/ical//2.0/EN
VERSION:2.0
CALSCALE:GREGORIAN
BEGIN:VEVENT
UID:08ff5e3312c3d539d1e89c75ac2d6e9f
DTSTAMP:20260421T163117Z
SUMMARY:Sommerferienworkshops: Mal-Atelier nach Frankenthaler
DESCRIPTION:
DTSTART:20260630T133000
DTEND:20260630T163000
LOCATION:HAUPTBAU
END:VEVENT
BEGIN:VTIMEZONE
TZID:Europe/Zurich
BEGIN:DAYLIGHT
DTSTART:20260630T133000
TZNAME:CEST
TZOFFSETTO:+0200
TZOFFSETFROM:+0200
END:DAYLIGHT
END:VTIMEZONE
END:VCALENDAR
