BEGIN:VCALENDAR
PRODID:-//eluceo/ical//2.0/EN
VERSION:2.0
CALSCALE:GREGORIAN
BEGIN:VEVENT
UID:dd5ac34ddd32415a273bcc00ff2aa5c3
DTSTAMP:20260421T162919Z
SUMMARY:Sommerferienworkshops: Mal-Atelier nach Frankenthaler
DESCRIPTION:
DTSTART:20260630T090000
DTEND:20260630T120000
LOCATION:HAUPTBAU
END:VEVENT
BEGIN:VTIMEZONE
TZID:Europe/Zurich
BEGIN:DAYLIGHT
DTSTART:20260630T090000
TZNAME:CEST
TZOFFSETTO:+0200
TZOFFSETFROM:+0200
END:DAYLIGHT
END:VTIMEZONE
END:VCALENDAR
