BEGIN:VCALENDAR
PRODID:-//eluceo/ical//2.0/EN
VERSION:2.0
CALSCALE:GREGORIAN
BEGIN:VEVENT
UID:f40a8c994100ed87a8bef4da145ddd97
DTSTAMP:20260422T002623Z
SUMMARY:Führung in der Ausstellung «The First Homosexuals»
DESCRIPTION:
DTSTART:20260628T150000
DTEND:20260628T160000
LOCATION:NEUBAU
END:VEVENT
BEGIN:VTIMEZONE
TZID:Europe/Zurich
BEGIN:DAYLIGHT
DTSTART:20260628T150000
TZNAME:CEST
TZOFFSETTO:+0200
TZOFFSETFROM:+0200
END:DAYLIGHT
END:VTIMEZONE
END:VCALENDAR
