BEGIN:VCALENDAR
PRODID:-//eluceo/ical//2.0/EN
VERSION:2.0
CALSCALE:GREGORIAN
BEGIN:VEVENT
UID:e2be3aebb4e062901a3356a3adc24970
DTSTAMP:20260421T162919Z
SUMMARY:Visite guidée de l&#039\;exposition «Helen Frankenthaler»
DESCRIPTION:
DTSTART:20260628T140000
DTEND:20260628T150000
LOCATION:NEUBAU
END:VEVENT
BEGIN:VTIMEZONE
TZID:Europe/Zurich
BEGIN:DAYLIGHT
DTSTART:20260628T140000
TZNAME:CEST
TZOFFSETTO:+0200
TZOFFSETFROM:+0200
END:DAYLIGHT
END:VTIMEZONE
END:VCALENDAR
