BEGIN:VCALENDAR
PRODID:-//eluceo/ical//2.0/EN
VERSION:2.0
CALSCALE:GREGORIAN
BEGIN:VEVENT
UID:0a7cc51ba1a02a0ba1f82f6e71c83822
DTSTAMP:20260421T163232Z
SUMMARY:Führung in der Ausstellung «Helen Frankenthaler»
DESCRIPTION:
DTSTART:20260627T140000
DTEND:20260627T150000
LOCATION:NEUBAU
END:VEVENT
BEGIN:VTIMEZONE
TZID:Europe/Zurich
BEGIN:DAYLIGHT
DTSTART:20260627T140000
TZNAME:CEST
TZOFFSETTO:+0200
TZOFFSETFROM:+0200
END:DAYLIGHT
END:VTIMEZONE
END:VCALENDAR
