BEGIN:VCALENDAR
PRODID:-//eluceo/ical//2.0/EN
VERSION:2.0
CALSCALE:GREGORIAN
BEGIN:VEVENT
UID:c4d27c0f128f16bb9fe26adf536f5eb3
DTSTAMP:20260422T034559Z
SUMMARY:Atelier ouvert: Boutons et bannières
DESCRIPTION:
DTSTART:20260627T100000
DTEND:20260627T160000
LOCATION:HAUPTBAU
END:VEVENT
BEGIN:VTIMEZONE
TZID:Europe/Zurich
BEGIN:DAYLIGHT
DTSTART:20260627T100000
TZNAME:CEST
TZOFFSETTO:+0200
TZOFFSETFROM:+0200
END:DAYLIGHT
END:VTIMEZONE
END:VCALENDAR
