BEGIN:VCALENDAR
PRODID:-//eluceo/ical//2.0/EN
VERSION:2.0
CALSCALE:GREGORIAN
BEGIN:VEVENT
UID:83abc92c39b42693666bc706bcb1b36b
DTSTAMP:20260421T163249Z
SUMMARY:Curator&#039\;s tour: «Helen Frankenthaler»
DESCRIPTION:
DTSTART:20260624T183000
DTEND:20260624T193000
LOCATION:NEUBAU
END:VEVENT
BEGIN:VTIMEZONE
TZID:Europe/Zurich
BEGIN:DAYLIGHT
DTSTART:20260624T183000
TZNAME:CEST
TZOFFSETTO:+0200
TZOFFSETFROM:+0200
END:DAYLIGHT
END:VTIMEZONE
END:VCALENDAR
