BEGIN:VCALENDAR
PRODID:-//eluceo/ical//2.0/EN
VERSION:2.0
CALSCALE:GREGORIAN
BEGIN:VEVENT
UID:63c00671336e7ffa21c86d921dd0b038
DTSTAMP:20260422T002624Z
SUMMARY:Führung in der Ausstellung «The First Homosexuals»
DESCRIPTION:
DTSTART:20260614T150000
DTEND:20260614T160000
LOCATION:NEUBAU
END:VEVENT
BEGIN:VTIMEZONE
TZID:Europe/Zurich
BEGIN:DAYLIGHT
DTSTART:20260614T150000
TZNAME:CEST
TZOFFSETTO:+0200
TZOFFSETFROM:+0200
END:DAYLIGHT
END:VTIMEZONE
END:VCALENDAR
