BEGIN:VCALENDAR
PRODID:-//eluceo/ical//2.0/EN
VERSION:2.0
CALSCALE:GREGORIAN
BEGIN:VEVENT
UID:4a19905d8a5a7a009facdf8352f1d092
DTSTAMP:20260422T021048Z
SUMMARY:Einführung für Lehrpersonen in «Cao Fei»
DESCRIPTION:
DTSTART:20260604T163000
DTEND:20260604T180000
LOCATION:GEGENWART
END:VEVENT
BEGIN:VTIMEZONE
TZID:Europe/Zurich
BEGIN:DAYLIGHT
DTSTART:20260604T163000
TZNAME:CEST
TZOFFSETTO:+0200
TZOFFSETFROM:+0200
END:DAYLIGHT
END:VTIMEZONE
END:VCALENDAR
