BEGIN:VCALENDAR
PRODID:-//eluceo/ical//2.0/EN
VERSION:2.0
CALSCALE:GREGORIAN
BEGIN:VEVENT
UID:8f8911b4052be44cfe579fb3c02dc151
DTSTAMP:20260424T102510Z
SUMMARY:Mitmach-Mittwoch: Nuances de couleurs
DESCRIPTION:
DTSTART:20260520T170000
DTEND:20260520T200000
LOCATION:HAUPTBAU
END:VEVENT
BEGIN:VTIMEZONE
TZID:Europe/Zurich
BEGIN:DAYLIGHT
DTSTART:20260520T170000
TZNAME:CEST
TZOFFSETTO:+0200
TZOFFSETFROM:+0200
END:DAYLIGHT
END:VTIMEZONE
END:VCALENDAR
