BEGIN:VCALENDAR
PRODID:-//eluceo/ical//2.0/EN
VERSION:2.0
CALSCALE:GREGORIAN
BEGIN:VEVENT
UID:bb2c3800b93a50a01e3d7b39d710c5db
DTSTAMP:20260424T102245Z
SUMMARY:Guided tour of the exhibition «The First Homosexuals»
DESCRIPTION:
DTSTART:20260517T150000
DTEND:20260517T160000
LOCATION:NEUBAU
END:VEVENT
BEGIN:VTIMEZONE
TZID:Europe/Zurich
BEGIN:DAYLIGHT
DTSTART:20260517T150000
TZNAME:CEST
TZOFFSETTO:+0200
TZOFFSETFROM:+0200
END:DAYLIGHT
END:VTIMEZONE
END:VCALENDAR
