BEGIN:VCALENDAR
PRODID:-//eluceo/ical//2.0/EN
VERSION:2.0
CALSCALE:GREGORIAN
BEGIN:VEVENT
UID:017d7de6b90a37b93ab489732f00fa5b
DTSTAMP:20260424T102524Z
SUMMARY:Panel discussion “The First Homosexuals”
DESCRIPTION:
DTSTART:20260517T130000
DTEND:20260517T143000
LOCATION:NEUBAU
END:VEVENT
BEGIN:VTIMEZONE
TZID:Europe/Zurich
BEGIN:DAYLIGHT
DTSTART:20260517T130000
TZNAME:CEST
TZOFFSETTO:+0200
TZOFFSETFROM:+0200
END:DAYLIGHT
END:VTIMEZONE
END:VCALENDAR
