BEGIN:VCALENDAR
PRODID:-//eluceo/ical//2.0/EN
VERSION:2.0
CALSCALE:GREGORIAN
BEGIN:VEVENT
UID:2e089857eb0f8e0ed3a2f71ed0d3382c
DTSTAMP:20260422T022051Z
SUMMARY:30 Minuten: Kunst und Aktivismus
DESCRIPTION:
DTSTART:20260421T123000
DTEND:20260421T130000
LOCATION:NEUBAU
END:VEVENT
BEGIN:VTIMEZONE
TZID:Europe/Zurich
BEGIN:DAYLIGHT
DTSTART:20260421T123000
TZNAME:CEST
TZOFFSETTO:+0200
TZOFFSETFROM:+0200
END:DAYLIGHT
END:VTIMEZONE
END:VCALENDAR
