BEGIN:VCALENDAR
PRODID:-//eluceo/ical//2.0/EN
VERSION:2.0
CALSCALE:GREGORIAN
BEGIN:VEVENT
UID:5ca46d30c9193f9b428cabad5d74a9de
DTSTAMP:20260422T021917Z
SUMMARY:30 Minuten: Arnold Böcklin und Fritz Gurlitt
DESCRIPTION:
DTSTART:20260414T123000
DTEND:20260414T130000
LOCATION:HAUPTBAU
END:VEVENT
BEGIN:VTIMEZONE
TZID:Europe/Zurich
BEGIN:DAYLIGHT
DTSTART:20260414T123000
TZNAME:CEST
TZOFFSETTO:+0200
TZOFFSETFROM:+0200
END:DAYLIGHT
END:VTIMEZONE
END:VCALENDAR
