BEGIN:VCALENDAR
PRODID:-//eluceo/ical//2.0/EN
VERSION:2.0
CALSCALE:GREGORIAN
BEGIN:VEVENT
UID:815a9e3ffae4d687b946bb1a007a39c1
DTSTAMP:20260422T021935Z
SUMMARY:Führung in der Ausstellung «The First Homosexuals»
DESCRIPTION:
DTSTART:20260412T150000
DTEND:20260412T160000
LOCATION:NEUBAU
END:VEVENT
BEGIN:VTIMEZONE
TZID:Europe/Zurich
BEGIN:DAYLIGHT
DTSTART:20260412T150000
TZNAME:CEST
TZOFFSETTO:+0200
TZOFFSETFROM:+0200
END:DAYLIGHT
END:VTIMEZONE
END:VCALENDAR
