BEGIN:VCALENDAR
PRODID:-//eluceo/ical//2.0/EN
VERSION:2.0
CALSCALE:GREGORIAN
BEGIN:VEVENT
UID:6394e8e3b8badebc075e19b328116529
DTSTAMP:20260422T021934Z
SUMMARY:Führung in der Ausstellung «The First Homosexuals»
DESCRIPTION:
DTSTART:20260322T150000
DTEND:20260322T160000
LOCATION:NEUBAU
END:VEVENT
BEGIN:VTIMEZONE
TZID:Europe/Zurich
BEGIN:STANDARD
DTSTART:20260322T150000
TZNAME:CET
TZOFFSETTO:+0100
TZOFFSETFROM:+0100
END:STANDARD
END:VTIMEZONE
END:VCALENDAR
