BEGIN:VCALENDAR
PRODID:-//eluceo/ical//2.0/EN
VERSION:2.0
CALSCALE:GREGORIAN
BEGIN:VEVENT
UID:f4bf8952c20a45f6d61eb07d8cee4272
DTSTAMP:20260422T041321Z
SUMMARY:After-Work-Drawing. Zeichnen in der Sammlung
DESCRIPTION:
DTSTART:20260319T170000
DTEND:20260319T174500
LOCATION:HAUPTBAU
END:VEVENT
BEGIN:VTIMEZONE
TZID:Europe/Zurich
BEGIN:STANDARD
DTSTART:20260319T170000
TZNAME:CET
TZOFFSETTO:+0100
TZOFFSETFROM:+0100
END:STANDARD
END:VTIMEZONE
END:VCALENDAR
