BEGIN:VCALENDAR
PRODID:-//eluceo/ical//2.0/EN
VERSION:2.0
CALSCALE:GREGORIAN
BEGIN:VEVENT
UID:4d7cb13c67ad2380b8987ba9c898262c
DTSTAMP:20260422T041204Z
SUMMARY:Kurator:innenführung in der Ausstellung «The First Homosexuals»
DESCRIPTION:
DTSTART:20260318T183000
DTEND:20260318T193000
LOCATION:NEUBAU
END:VEVENT
BEGIN:VTIMEZONE
TZID:Europe/Zurich
BEGIN:STANDARD
DTSTART:20260318T183000
TZNAME:CET
TZOFFSETTO:+0100
TZOFFSETFROM:+0100
END:STANDARD
END:VTIMEZONE
END:VCALENDAR
