BEGIN:VCALENDAR
PRODID:-//eluceo/ical//2.0/EN
VERSION:2.0
CALSCALE:GREGORIAN
BEGIN:VEVENT
UID:5ad97c35e6a334fb77413d3277fa1f1c
DTSTAMP:20260422T041158Z
SUMMARY:Guided tour of the exhibition «The First Homosexuals»
DESCRIPTION:
DTSTART:20260315T150000
DTEND:20260315T160000
LOCATION:NEUBAU
END:VEVENT
BEGIN:VTIMEZONE
TZID:Europe/Zurich
BEGIN:STANDARD
DTSTART:20260315T150000
TZNAME:CET
TZOFFSETTO:+0100
TZOFFSETFROM:+0100
END:STANDARD
END:VTIMEZONE
END:VCALENDAR
