BEGIN:VCALENDAR
PRODID:-//eluceo/ical//2.0/EN
VERSION:2.0
CALSCALE:GREGORIAN
BEGIN:VEVENT
UID:83b294f7f5e0c87a9fb516b2eeee4084
DTSTAMP:20260422T041159Z
SUMMARY:30 Minuten: Gauguins letztes Selbstportrait
DESCRIPTION:
DTSTART:20260310T123000
DTEND:20260310T130000
LOCATION:HAUPTBAU
END:VEVENT
BEGIN:VTIMEZONE
TZID:Europe/Zurich
BEGIN:STANDARD
DTSTART:20260310T123000
TZNAME:CET
TZOFFSETTO:+0100
TZOFFSETFROM:+0100
END:STANDARD
END:VTIMEZONE
END:VCALENDAR
