BEGIN:VCALENDAR
PRODID:-//eluceo/ical//2.0/EN
VERSION:2.0
CALSCALE:GREGORIAN
BEGIN:VEVENT
UID:4b2c4b27faf9fe780c3dc0a366bbfafe
DTSTAMP:20260422T041321Z
SUMMARY:Führung in der Ausstellung «Geister. Dem Übernatürlichen auf de
 r Spur»
DESCRIPTION:
DTSTART:20260307T140000
DTEND:20260307T150000
LOCATION:NEUBAU
END:VEVENT
BEGIN:VTIMEZONE
TZID:Europe/Zurich
BEGIN:STANDARD
DTSTART:20260307T140000
TZNAME:CET
TZOFFSETTO:+0100
TZOFFSETFROM:+0100
END:STANDARD
END:VTIMEZONE
END:VCALENDAR
