BEGIN:VCALENDAR
PRODID:-//eluceo/ical//2.0/EN
VERSION:2.0
CALSCALE:GREGORIAN
BEGIN:VEVENT
UID:3c6882fdfd8b95a72a103ab88123fa50
DTSTAMP:20260422T041306Z
SUMMARY:Mitmach-Mittwoch: Quatre éléments
DESCRIPTION:
DTSTART:20260311T170000
DTEND:20260311T200000
LOCATION:HAUPTBAU
END:VEVENT
BEGIN:VTIMEZONE
TZID:Europe/Zurich
BEGIN:STANDARD
DTSTART:20260311T170000
TZNAME:CET
TZOFFSETTO:+0100
TZOFFSETFROM:+0100
END:STANDARD
END:VTIMEZONE
END:VCALENDAR
