BEGIN:VCALENDAR
PRODID:-//eluceo/ical//2.0/EN
VERSION:2.0
CALSCALE:GREGORIAN
BEGIN:VEVENT
UID:7cd990b7573d690af9f2d49355e25355
DTSTAMP:20260422T063352Z
SUMMARY:Vernissage: « Van Gogh\, Hodler et un cabriolet. La collectionneus
 e et pionnière Gertrud Dübi-Müller »
DESCRIPTION:
DTSTART:20260918T183000
DTEND:20260918T210000
LOCATION:NEUBAU
END:VEVENT
BEGIN:VTIMEZONE
TZID:Europe/Zurich
BEGIN:DAYLIGHT
DTSTART:20260918T183000
TZNAME:CEST
TZOFFSETTO:+0200
TZOFFSETFROM:+0200
END:DAYLIGHT
END:VTIMEZONE
END:VCALENDAR
