BEGIN:VCALENDAR
PRODID:-//eluceo/ical//2.0/EN
VERSION:2.0
CALSCALE:GREGORIAN
BEGIN:VEVENT
UID:674cfd6261a6e0b6bfba65839d591ea1
DTSTAMP:20260422T020956Z
SUMMARY:Vernissage: « Cao Fei. Testimonies to the Near Future »
DESCRIPTION:
DTSTART:20260529T183000
DTEND:20260529T210000
LOCATION:GEGENWART
END:VEVENT
BEGIN:VTIMEZONE
TZID:Europe/Zurich
BEGIN:DAYLIGHT
DTSTART:20260529T183000
TZNAME:CEST
TZOFFSETTO:+0200
TZOFFSETFROM:+0200
END:DAYLIGHT
END:VTIMEZONE
END:VCALENDAR
