BEGIN:VCALENDAR
PRODID:-//eluceo/ical//2.0/EN
VERSION:2.0
CALSCALE:GREGORIAN
BEGIN:VEVENT
UID:bb90d11b3fcd8411ac980b8894a028e1
DTSTAMP:20260422T021918Z
SUMMARY:Vernissage: « Helen Frankenthaler »
DESCRIPTION:
DTSTART:20260417T183000
DTEND:20260417T210000
LOCATION:NEUBAU
END:VEVENT
BEGIN:VTIMEZONE
TZID:Europe/Zurich
BEGIN:DAYLIGHT
DTSTART:20260417T183000
TZNAME:CEST
TZOFFSETTO:+0200
TZOFFSETFROM:+0200
END:DAYLIGHT
END:VTIMEZONE
END:VCALENDAR
