BEGIN:VCALENDAR
PRODID:-//eluceo/ical//2.0/EN
VERSION:2.0
CALSCALE:GREGORIAN
BEGIN:VEVENT
UID:6b6af7620bb052b35962e63d33e1dd9b
DTSTAMP:20260422T055012Z
SUMMARY:30 Minuten: Provenienzforschung in der Sammlung
DESCRIPTION:
DTSTART:20260210T123000
DTEND:20260210T130000
LOCATION:HAUPTBAU
END:VEVENT
BEGIN:VTIMEZONE
TZID:Europe/Zurich
BEGIN:STANDARD
DTSTART:20260210T123000
TZNAME:CET
TZOFFSETTO:+0100
TZOFFSETFROM:+0100
END:STANDARD
END:VTIMEZONE
END:VCALENDAR
