BEGIN:VCALENDAR
PRODID:-//eluceo/ical//2.0/EN
VERSION:2.0
CALSCALE:GREGORIAN
BEGIN:VEVENT
UID:c591e1490312dab9f990591a828fa319
DTSTAMP:20260422T055145Z
SUMMARY:Führung in der Ausstellung «Geister. Dem Übernatürlichen auf de
 r Spur»
DESCRIPTION:
DTSTART:20260214T140000
DTEND:20260214T150000
LOCATION:NEUBAU
END:VEVENT
BEGIN:VTIMEZONE
TZID:Europe/Zurich
BEGIN:STANDARD
DTSTART:20260214T140000
TZNAME:CET
TZOFFSETTO:+0100
TZOFFSETFROM:+0100
END:STANDARD
END:VTIMEZONE
END:VCALENDAR
