BEGIN:VCALENDAR
PRODID:-//eluceo/ical//2.0/EN
VERSION:2.0
CALSCALE:GREGORIAN
BEGIN:VEVENT
UID:ce3b4fde68b78ebecfc61b4ea8b65d89
DTSTAMP:20260422T055125Z
SUMMARY:Mitmach-Mittwoch: The Frame Archive
DESCRIPTION:
DTSTART:20260204T170000
DTEND:20260204T200000
LOCATION:HAUPTBAU
END:VEVENT
BEGIN:VTIMEZONE
TZID:Europe/Zurich
BEGIN:STANDARD
DTSTART:20260204T170000
TZNAME:CET
TZOFFSETTO:+0100
TZOFFSETFROM:+0100
END:STANDARD
END:VTIMEZONE
END:VCALENDAR
