BEGIN:VCALENDAR
PRODID:-//eluceo/ical//2.0/EN
VERSION:2.0
CALSCALE:GREGORIAN
BEGIN:VEVENT
UID:aca7e5456e020f7ab1974aaee9e27f96
DTSTAMP:20260422T055042Z
SUMMARY:30 Minuten: Kunst. Italienische Druckgrafik um 1500
DESCRIPTION:
DTSTART:20260203T123000
DTEND:20260203T130000
LOCATION:HAUPTBAU
END:VEVENT
BEGIN:VTIMEZONE
TZID:Europe/Zurich
BEGIN:STANDARD
DTSTART:20260203T123000
TZNAME:CET
TZOFFSETTO:+0100
TZOFFSETFROM:+0100
END:STANDARD
END:VTIMEZONE
END:VCALENDAR
