BEGIN:VCALENDAR
PRODID:-//eluceo/ical//2.0/EN
VERSION:2.0
CALSCALE:GREGORIAN
BEGIN:VEVENT
UID:edbe091eb591559796d961bca08d9d69
DTSTAMP:20260422T055124Z
SUMMARY:Nuit des Musées: Rendez-vous avec tes fantômes
DESCRIPTION:
DTSTART:20260123T180000
DTEND:20260123T020000
LOCATION:HAUPTBAU\, NEUBAU
END:VEVENT
BEGIN:VTIMEZONE
TZID:Europe/Zurich
BEGIN:STANDARD
DTSTART:20260123T180000
TZNAME:CET
TZOFFSETTO:+0100
TZOFFSETFROM:+0100
END:STANDARD
END:VTIMEZONE
END:VCALENDAR
