BEGIN:VCALENDAR
PRODID:-//eluceo/ical//2.0/EN
VERSION:2.0
CALSCALE:GREGORIAN
BEGIN:VEVENT
UID:1d6134c4d942da5d900d4f0244efbe3a
DTSTAMP:20260422T055146Z
SUMMARY:After-Work-Drawing. Zeichnen in der Sammlung
DESCRIPTION:
DTSTART:20260122T170000
DTEND:20260122T174500
LOCATION:HAUPTBAU
END:VEVENT
BEGIN:VTIMEZONE
TZID:Europe/Zurich
BEGIN:STANDARD
DTSTART:20260122T170000
TZNAME:CET
TZOFFSETTO:+0100
TZOFFSETFROM:+0100
END:STANDARD
END:VTIMEZONE
END:VCALENDAR
