BEGIN:VCALENDAR
PRODID:-//eluceo/ical//2.0/EN
VERSION:2.0
CALSCALE:GREGORIAN
BEGIN:VEVENT
UID:56674bf14d044849d0d4bbf0330b8550
DTSTAMP:20260422T182003Z
SUMMARY:Guided tour of the exhibition “Helen Frankenthaler”
DESCRIPTION:
DTSTART:20260607T140000
DTEND:20260607T150000
LOCATION:NEUBAU
END:VEVENT
BEGIN:VTIMEZONE
TZID:Europe/Zurich
BEGIN:DAYLIGHT
DTSTART:20260607T140000
TZNAME:CEST
TZOFFSETTO:+0200
TZOFFSETFROM:+0200
END:DAYLIGHT
END:VTIMEZONE
END:VCALENDAR
