BEGIN:VCALENDAR
PRODID:-//eluceo/ical//2.0/EN
VERSION:2.0
CALSCALE:GREGORIAN
BEGIN:VEVENT
UID:33c55c32fcc3305127ae28aec40e52a1
DTSTAMP:20260425T011227Z
SUMMARY:Tandem tour with Rolf Thalmann\, board member of Schwulenarchiv Sch
 weiz\, and Aïcha Revellat\, art educator
DESCRIPTION:
DTSTART:20260517T170000
DTEND:20260517T174500
LOCATION:NEUBAU
END:VEVENT
BEGIN:VTIMEZONE
TZID:Europe/Zurich
BEGIN:DAYLIGHT
DTSTART:20260517T170000
TZNAME:CEST
TZOFFSETTO:+0200
TZOFFSETFROM:+0200
END:DAYLIGHT
END:VTIMEZONE
END:VCALENDAR
