BEGIN:VCALENDAR
PRODID:-//eluceo/ical//2.0/EN
VERSION:2.0
CALSCALE:GREGORIAN
BEGIN:VEVENT
UID:592732902e1ada27f179c5a1fc365962
DTSTAMP:20260425T011314Z
SUMMARY:Installation “Fear Rage Desire\, Still Standing” by Marc Bauer
DESCRIPTION:
DTSTART:20260517T110000
DTEND:20260517T143000
LOCATION:NEUBAU
END:VEVENT
BEGIN:VTIMEZONE
TZID:Europe/Zurich
BEGIN:DAYLIGHT
DTSTART:20260517T110000
TZNAME:CEST
TZOFFSETTO:+0200
TZOFFSETFROM:+0200
END:DAYLIGHT
END:VTIMEZONE
END:VCALENDAR
