BEGIN:VCALENDAR
PRODID:-//eluceo/ical//2.0/EN
VERSION:2.0
CALSCALE:GREGORIAN
BEGIN:VEVENT
UID:1fe8b6da5037272f13a1d4e072d236a5
DTSTAMP:20260421T211951Z
SUMMARY:Program Day: The First Homosexuals. The Birth of New Identities 186
 9–1939
DESCRIPTION:
DTSTART:20260517T100000
DTEND:20260517T174500
LOCATION:NEUBAU
END:VEVENT
BEGIN:VTIMEZONE
TZID:Europe/Zurich
BEGIN:DAYLIGHT
DTSTART:20260517T100000
TZNAME:CEST
TZOFFSETTO:+0200
TZOFFSETFROM:+0200
END:DAYLIGHT
END:VTIMEZONE
END:VCALENDAR
