BEGIN:VCALENDAR
PRODID:-//eluceo/ical//2.0/EN
VERSION:2.0
CALSCALE:GREGORIAN
BEGIN:VEVENT
UID:ea3552f3182e9b8d2979f9a90973db63
DTSTAMP:20260422T030201Z
SUMMARY:30 Minuten: Highlights der Sammlung Im Obersteg
DESCRIPTION:
DTSTART:20260331T123000
DTEND:20260331T130000
LOCATION:HAUPTBAU
END:VEVENT
BEGIN:VTIMEZONE
TZID:Europe/Zurich
BEGIN:DAYLIGHT
DTSTART:20260331T123000
TZNAME:CEST
TZOFFSETTO:+0200
TZOFFSETFROM:+0200
END:DAYLIGHT
END:VTIMEZONE
END:VCALENDAR
