BEGIN:VCALENDAR
PRODID:-//eluceo/ical//2.0/EN
VERSION:2.0
CALSCALE:GREGORIAN
BEGIN:VEVENT
UID:2fca1feedc706ab10d0854eaa500a02c
DTSTAMP:20260422T030323Z
SUMMARY:Führung für blinde und sehbeeinträchtigte Menschen
DESCRIPTION:
DTSTART:20260324T170000
DTEND:20260324T174500
LOCATION:HAUPTBAU
END:VEVENT
BEGIN:VTIMEZONE
TZID:Europe/Zurich
BEGIN:STANDARD
DTSTART:20260324T170000
TZNAME:CET
TZOFFSETTO:+0100
TZOFFSETFROM:+0100
END:STANDARD
END:VTIMEZONE
END:VCALENDAR
