BEGIN:VCALENDAR
PRODID:-//eluceo/ical//2.0/EN
VERSION:2.0
CALSCALE:GREGORIAN
BEGIN:VEVENT
UID:f0032972bfdaa86d852d4e05162a6fd3
DTSTAMP:20260422T043135Z
SUMMARY:30 Minuten: Italienische Architekturzeichnungen im Kupferstichkabin
 ett
DESCRIPTION:
DTSTART:20260317T123000
DTEND:20260317T130000
LOCATION:HAUPTBAU
END:VEVENT
BEGIN:VTIMEZONE
TZID:Europe/Zurich
BEGIN:STANDARD
DTSTART:20260317T123000
TZNAME:CET
TZOFFSETTO:+0100
TZOFFSETFROM:+0100
END:STANDARD
END:VTIMEZONE
END:VCALENDAR
