BEGIN:VCALENDAR
PRODID:-//eluceo/ical//2.0/EN
VERSION:2.0
CALSCALE:GREGORIAN
BEGIN:VEVENT
UID:1d3fe31be612938578fef3306275b4fc
DTSTAMP:20260422T043216Z
SUMMARY:Macht Platz!
DESCRIPTION:
DTSTART:20260301T100000
DTEND:20260301T180000
LOCATION:HAUPTBAU
END:VEVENT
BEGIN:VTIMEZONE
TZID:Europe/Zurich
BEGIN:STANDARD
DTSTART:20260301T100000
TZNAME:CET
TZOFFSETTO:+0100
TZOFFSETFROM:+0100
END:STANDARD
END:VTIMEZONE
END:VCALENDAR
