BEGIN:VCALENDAR
PRODID:-//eluceo/ical//2.0/EN
VERSION:2.0
CALSCALE:GREGORIAN
BEGIN:VEVENT
UID:a149e1e9a35449d77adb5caa703ddb04
DTSTAMP:20260422T043135Z
SUMMARY:Vernissage  &quot\;The First Homosexuals. The Birth of New Identiti
 es 1869–1939&quot\; and project launch &quot\;Marc Bauer. Fear Rage Desi
 re\, Still Standing&quot\;
DESCRIPTION:
DTSTART:20260306T183000
DTEND:20260306T210000
LOCATION:NEUBAU
END:VEVENT
BEGIN:VTIMEZONE
TZID:Europe/Zurich
BEGIN:STANDARD
DTSTART:20260306T183000
TZNAME:CET
TZOFFSETTO:+0100
TZOFFSETFROM:+0100
END:STANDARD
END:VTIMEZONE
END:VCALENDAR
