BEGIN:VCALENDAR
PRODID:-//eluceo/ical//2.0/EN
VERSION:2.0
CALSCALE:GREGORIAN
BEGIN:VEVENT
UID:631ad3719f55b46683a8b31d0f1e4f8d
DTSTAMP:20260422T043246Z
SUMMARY:Mitmach-Mittwoch: Four elements
DESCRIPTION:
DTSTART:20260318T170000
DTEND:20260318T200000
LOCATION:HAUPTBAU
END:VEVENT
BEGIN:VTIMEZONE
TZID:Europe/Zurich
BEGIN:STANDARD
DTSTART:20260318T170000
TZNAME:CET
TZOFFSETTO:+0100
TZOFFSETFROM:+0100
END:STANDARD
END:VTIMEZONE
END:VCALENDAR
